BEGIN:VCALENDAR
VERSION:2.0
PRODID:-//Les Yeux d&#039;Orient - ECPv6.13.2.1//NONSGML v1.0//EN
CALSCALE:GREGORIAN
METHOD:PUBLISH
X-WR-CALNAME:Les Yeux d&#039;Orient
X-ORIGINAL-URL:https://lesyeux-dorient.com
X-WR-CALDESC:Évènements pour Les Yeux d&#039;Orient
REFRESH-INTERVAL;VALUE=DURATION:PT1H
X-Robots-Tag:noindex
X-PUBLISHED-TTL:PT1H
BEGIN:VTIMEZONE
TZID:UTC
BEGIN:STANDARD
TZOFFSETFROM:+0000
TZOFFSETTO:+0000
TZNAME:UTC
DTSTART:20250101T000000
END:STANDARD
END:VTIMEZONE
BEGIN:VEVENT
DTSTART;TZID=UTC:20250506T190000
DTEND;TZID=UTC:20250506T200000
DTSTAMP:20260421T081245
CREATED:20250505T161025Z
LAST-MODIFIED:20250516T153334Z
UID:2443-1746558000-1746561600@lesyeux-dorient.com
SUMMARY:Cours de danse orientale à Sevran (93)
DESCRIPTION:
URL:https://lesyeux-dorient.com/event/cours-de-danse-orientale-a-sevran-93-3-2-2/
LOCATION:Maison de Quartier Rougemont  8 Quinquiès Rue Pierre Brossolette  93270 Sevran
CATEGORIES:Cours de danse orientale
END:VEVENT
BEGIN:VEVENT
DTSTART;TZID=UTC:20250502T090000
DTEND;TZID=UTC:20250502T100000
DTSTAMP:20260421T081245
CREATED:20250516T155750Z
LAST-MODIFIED:20250516T155750Z
UID:3522-1746176400-1746180000@lesyeux-dorient.com
SUMMARY:Cours de Pilates à Sevran (93)
DESCRIPTION:
URL:https://lesyeux-dorient.com/event/cours-de-pilates-a-sevran-93-3/
LOCATION:Gymnase Victor Hugo  34 Boulevard de la République  93270 Sevran
CATEGORIES:Cours de pilates
END:VEVENT
BEGIN:VEVENT
DTSTART;TZID=UTC:20250502T180000
DTEND;TZID=UTC:20250502T190000
DTSTAMP:20260421T081245
CREATED:20250516T155927Z
LAST-MODIFIED:20250516T155927Z
UID:3524-1746208800-1746212400@lesyeux-dorient.com
SUMMARY:Cours de Pilates à Sevran (93)
DESCRIPTION:
URL:https://lesyeux-dorient.com/event/cours-de-pilates-a-sevran-93-4/
LOCATION:Gymnase Victor Hugo  34 Boulevard de la République  93270 Sevran
CATEGORIES:Cours de pilates
END:VEVENT
BEGIN:VEVENT
DTSTART;TZID=UTC:20250503T100000
DTEND;TZID=UTC:20250503T110000
DTSTAMP:20260421T081245
CREATED:20250505T164828Z
LAST-MODIFIED:20250516T154531Z
UID:2459-1746266400-1746270000@lesyeux-dorient.com
SUMMARY:Cours de danse orientale à Livry-Gargan (93)
DESCRIPTION:
URL:https://lesyeux-dorient.com/event/cours-de-danse-orientale-a-livry-gargan-93-2-2/
LOCATION:Gymnase Danton  12 Allée Danton  93190 Livry-Gargan
CATEGORIES:Cours de danse orientale
END:VEVENT
BEGIN:VEVENT
DTSTART;TZID=UTC:20250503T110000
DTEND;TZID=UTC:20250503T120000
DTSTAMP:20260421T081245
CREATED:20250505T162957Z
LAST-MODIFIED:20250516T154732Z
UID:2449-1746270000-1746273600@lesyeux-dorient.com
SUMMARY:Cours de danse orientale à Livry-Gargan (93)
DESCRIPTION:
URL:https://lesyeux-dorient.com/event/cours-de-danse-orientale-a-livry-gargan-93/
LOCATION:Gymnase Danton  12 Allée Danton  93190 Livry-Gargan
CATEGORIES:Cours de danse orientale
END:VEVENT
BEGIN:VEVENT
DTSTART;TZID=UTC:20250503T140000
DTEND;TZID=UTC:20250503T150000
DTSTAMP:20260421T081245
CREATED:20250505T162533Z
LAST-MODIFIED:20250516T154812Z
UID:2445-1746280800-1746284400@lesyeux-dorient.com
SUMMARY:Cours de danse orientale à Sevran (93)
DESCRIPTION:
URL:https://lesyeux-dorient.com/event/cours-de-danse-orientale-a-sevran-93/
LOCATION:Gymnase Victor Hugo  34 Boulevard de la République  93270 Sevran
CATEGORIES:Cours de danse orientale
END:VEVENT
BEGIN:VEVENT
DTSTART;TZID=UTC:20250505T193000
DTEND;TZID=UTC:20250505T203000
DTSTAMP:20260421T081245
CREATED:20250505T160530Z
LAST-MODIFIED:20250516T152229Z
UID:2441-1746473400-1746477000@lesyeux-dorient.com
SUMMARY:Cours de danse orientale à Sevran (93)
DESCRIPTION:
URL:https://lesyeux-dorient.com/event/cours-de-danse-orientale-a-sevran-93-3-3/
LOCATION:Maison de Quartier Edmond Michelet  44 avenue Salvador Allende  93270 Sevran
CATEGORIES:Cours de danse orientale
END:VEVENT
BEGIN:VEVENT
DTSTART;TZID=UTC:20250505T203000
DTEND;TZID=UTC:20250505T213000
DTSTAMP:20260421T081245
CREATED:20250516T152746Z
LAST-MODIFIED:20250516T152746Z
UID:3514-1746477000-1746480600@lesyeux-dorient.com
SUMMARY:Cours de danse orientale à Sevran (93)
DESCRIPTION:
URL:https://lesyeux-dorient.com/event/cours-de-danse-orientale-a-sevran-93-2/
LOCATION:Maison de Quartier Edmond Michelet  44 avenue Salvador Allende  93270 Sevran
CATEGORIES:Cours de danse orientale
END:VEVENT
BEGIN:VEVENT
DTSTART;TZID=UTC:20250506T190000
DTEND;TZID=UTC:20250506T200000
DTSTAMP:20260421T081245
CREATED:20250505T161025Z
LAST-MODIFIED:20250516T153334Z
UID:2443-1746558000-1746561600@lesyeux-dorient.com
SUMMARY:Cours de danse orientale à Sevran (93)
DESCRIPTION:
URL:https://lesyeux-dorient.com/event/cours-de-danse-orientale-a-sevran-93-3-2-2/
LOCATION:Maison de Quartier Rougemont  8 Quinquiès Rue Pierre Brossolette  93270 Sevran
CATEGORIES:Cours de danse orientale
END:VEVENT
BEGIN:VEVENT
DTSTART;TZID=UTC:20250502T090000
DTEND;TZID=UTC:20250502T100000
DTSTAMP:20260421T081245
CREATED:20250516T155750Z
LAST-MODIFIED:20250516T155750Z
UID:3522-1746176400-1746180000@lesyeux-dorient.com
SUMMARY:Cours de Pilates à Sevran (93)
DESCRIPTION:
URL:https://lesyeux-dorient.com/event/cours-de-pilates-a-sevran-93-3/
LOCATION:Gymnase Victor Hugo  34 Boulevard de la République  93270 Sevran
CATEGORIES:Cours de pilates
END:VEVENT
BEGIN:VEVENT
DTSTART;TZID=UTC:20250502T180000
DTEND;TZID=UTC:20250502T190000
DTSTAMP:20260421T081245
CREATED:20250516T155927Z
LAST-MODIFIED:20250516T155927Z
UID:3524-1746208800-1746212400@lesyeux-dorient.com
SUMMARY:Cours de Pilates à Sevran (93)
DESCRIPTION:
URL:https://lesyeux-dorient.com/event/cours-de-pilates-a-sevran-93-4/
LOCATION:Gymnase Victor Hugo  34 Boulevard de la République  93270 Sevran
CATEGORIES:Cours de pilates
END:VEVENT
BEGIN:VEVENT
DTSTART;TZID=UTC:20250503T100000
DTEND;TZID=UTC:20250503T110000
DTSTAMP:20260421T081245
CREATED:20250505T164828Z
LAST-MODIFIED:20250516T154531Z
UID:2459-1746266400-1746270000@lesyeux-dorient.com
SUMMARY:Cours de danse orientale à Livry-Gargan (93)
DESCRIPTION:
URL:https://lesyeux-dorient.com/event/cours-de-danse-orientale-a-livry-gargan-93-2-2/
LOCATION:Gymnase Danton  12 Allée Danton  93190 Livry-Gargan
CATEGORIES:Cours de danse orientale
END:VEVENT
BEGIN:VEVENT
DTSTART;TZID=UTC:20250503T110000
DTEND;TZID=UTC:20250503T120000
DTSTAMP:20260421T081245
CREATED:20250505T162957Z
LAST-MODIFIED:20250516T154732Z
UID:2449-1746270000-1746273600@lesyeux-dorient.com
SUMMARY:Cours de danse orientale à Livry-Gargan (93)
DESCRIPTION:
URL:https://lesyeux-dorient.com/event/cours-de-danse-orientale-a-livry-gargan-93/
LOCATION:Gymnase Danton  12 Allée Danton  93190 Livry-Gargan
CATEGORIES:Cours de danse orientale
END:VEVENT
BEGIN:VEVENT
DTSTART;TZID=UTC:20250503T140000
DTEND;TZID=UTC:20250503T150000
DTSTAMP:20260421T081245
CREATED:20250505T162533Z
LAST-MODIFIED:20250516T154812Z
UID:2445-1746280800-1746284400@lesyeux-dorient.com
SUMMARY:Cours de danse orientale à Sevran (93)
DESCRIPTION:
URL:https://lesyeux-dorient.com/event/cours-de-danse-orientale-a-sevran-93/
LOCATION:Gymnase Victor Hugo  34 Boulevard de la République  93270 Sevran
CATEGORIES:Cours de danse orientale
END:VEVENT
BEGIN:VEVENT
DTSTART;TZID=UTC:20250505T193000
DTEND;TZID=UTC:20250505T203000
DTSTAMP:20260421T081245
CREATED:20250505T160530Z
LAST-MODIFIED:20250516T152229Z
UID:2441-1746473400-1746477000@lesyeux-dorient.com
SUMMARY:Cours de danse orientale à Sevran (93)
DESCRIPTION:
URL:https://lesyeux-dorient.com/event/cours-de-danse-orientale-a-sevran-93-3-3/
LOCATION:Maison de Quartier Edmond Michelet  44 avenue Salvador Allende  93270 Sevran
CATEGORIES:Cours de danse orientale
END:VEVENT
BEGIN:VEVENT
DTSTART;TZID=UTC:20250505T203000
DTEND;TZID=UTC:20250505T213000
DTSTAMP:20260421T081245
CREATED:20250516T152746Z
LAST-MODIFIED:20250516T152746Z
UID:3514-1746477000-1746480600@lesyeux-dorient.com
SUMMARY:Cours de danse orientale à Sevran (93)
DESCRIPTION:
URL:https://lesyeux-dorient.com/event/cours-de-danse-orientale-a-sevran-93-2/
LOCATION:Maison de Quartier Edmond Michelet  44 avenue Salvador Allende  93270 Sevran
CATEGORIES:Cours de danse orientale
END:VEVENT
BEGIN:VEVENT
DTSTART;TZID=UTC:20250506T190000
DTEND;TZID=UTC:20250506T200000
DTSTAMP:20260421T081245
CREATED:20250505T161025Z
LAST-MODIFIED:20250516T153334Z
UID:2443-1746558000-1746561600@lesyeux-dorient.com
SUMMARY:Cours de danse orientale à Sevran (93)
DESCRIPTION:
URL:https://lesyeux-dorient.com/event/cours-de-danse-orientale-a-sevran-93-3-2-2/
LOCATION:Maison de Quartier Rougemont  8 Quinquiès Rue Pierre Brossolette  93270 Sevran
CATEGORIES:Cours de danse orientale
END:VEVENT
BEGIN:VEVENT
DTSTART;TZID=UTC:20250502T090000
DTEND;TZID=UTC:20250502T100000
DTSTAMP:20260421T081245
CREATED:20250516T155750Z
LAST-MODIFIED:20250516T155750Z
UID:3522-1746176400-1746180000@lesyeux-dorient.com
SUMMARY:Cours de Pilates à Sevran (93)
DESCRIPTION:
URL:https://lesyeux-dorient.com/event/cours-de-pilates-a-sevran-93-3/
LOCATION:Gymnase Victor Hugo  34 Boulevard de la République  93270 Sevran
CATEGORIES:Cours de pilates
END:VEVENT
BEGIN:VEVENT
DTSTART;TZID=UTC:20250502T180000
DTEND;TZID=UTC:20250502T190000
DTSTAMP:20260421T081245
CREATED:20250516T155927Z
LAST-MODIFIED:20250516T155927Z
UID:3524-1746208800-1746212400@lesyeux-dorient.com
SUMMARY:Cours de Pilates à Sevran (93)
DESCRIPTION:
URL:https://lesyeux-dorient.com/event/cours-de-pilates-a-sevran-93-4/
LOCATION:Gymnase Victor Hugo  34 Boulevard de la République  93270 Sevran
CATEGORIES:Cours de pilates
END:VEVENT
BEGIN:VEVENT
DTSTART;TZID=UTC:20250503T100000
DTEND;TZID=UTC:20250503T110000
DTSTAMP:20260421T081245
CREATED:20250505T164828Z
LAST-MODIFIED:20250516T154531Z
UID:2459-1746266400-1746270000@lesyeux-dorient.com
SUMMARY:Cours de danse orientale à Livry-Gargan (93)
DESCRIPTION:
URL:https://lesyeux-dorient.com/event/cours-de-danse-orientale-a-livry-gargan-93-2-2/
LOCATION:Gymnase Danton  12 Allée Danton  93190 Livry-Gargan
CATEGORIES:Cours de danse orientale
END:VEVENT
BEGIN:VEVENT
DTSTART;TZID=UTC:20250503T110000
DTEND;TZID=UTC:20250503T120000
DTSTAMP:20260421T081245
CREATED:20250505T162957Z
LAST-MODIFIED:20250516T154732Z
UID:2449-1746270000-1746273600@lesyeux-dorient.com
SUMMARY:Cours de danse orientale à Livry-Gargan (93)
DESCRIPTION:
URL:https://lesyeux-dorient.com/event/cours-de-danse-orientale-a-livry-gargan-93/
LOCATION:Gymnase Danton  12 Allée Danton  93190 Livry-Gargan
CATEGORIES:Cours de danse orientale
END:VEVENT
BEGIN:VEVENT
DTSTART;TZID=UTC:20250503T140000
DTEND;TZID=UTC:20250503T150000
DTSTAMP:20260421T081245
CREATED:20250505T162533Z
LAST-MODIFIED:20250516T154812Z
UID:2445-1746280800-1746284400@lesyeux-dorient.com
SUMMARY:Cours de danse orientale à Sevran (93)
DESCRIPTION:
URL:https://lesyeux-dorient.com/event/cours-de-danse-orientale-a-sevran-93/
LOCATION:Gymnase Victor Hugo  34 Boulevard de la République  93270 Sevran
CATEGORIES:Cours de danse orientale
END:VEVENT
BEGIN:VEVENT
DTSTART;TZID=UTC:20250505T193000
DTEND;TZID=UTC:20250505T203000
DTSTAMP:20260421T081245
CREATED:20250505T160530Z
LAST-MODIFIED:20250516T152229Z
UID:2441-1746473400-1746477000@lesyeux-dorient.com
SUMMARY:Cours de danse orientale à Sevran (93)
DESCRIPTION:
URL:https://lesyeux-dorient.com/event/cours-de-danse-orientale-a-sevran-93-3-3/
LOCATION:Maison de Quartier Edmond Michelet  44 avenue Salvador Allende  93270 Sevran
CATEGORIES:Cours de danse orientale
END:VEVENT
BEGIN:VEVENT
DTSTART;TZID=UTC:20250505T203000
DTEND;TZID=UTC:20250505T213000
DTSTAMP:20260421T081245
CREATED:20250516T152746Z
LAST-MODIFIED:20250516T152746Z
UID:3514-1746477000-1746480600@lesyeux-dorient.com
SUMMARY:Cours de danse orientale à Sevran (93)
DESCRIPTION:
URL:https://lesyeux-dorient.com/event/cours-de-danse-orientale-a-sevran-93-2/
LOCATION:Maison de Quartier Edmond Michelet  44 avenue Salvador Allende  93270 Sevran
CATEGORIES:Cours de danse orientale
END:VEVENT
BEGIN:VEVENT
DTSTART;TZID=UTC:20250506T190000
DTEND;TZID=UTC:20250506T200000
DTSTAMP:20260421T081245
CREATED:20250505T161025Z
LAST-MODIFIED:20250516T153334Z
UID:2443-1746558000-1746561600@lesyeux-dorient.com
SUMMARY:Cours de danse orientale à Sevran (93)
DESCRIPTION:
URL:https://lesyeux-dorient.com/event/cours-de-danse-orientale-a-sevran-93-3-2-2/
LOCATION:Maison de Quartier Rougemont  8 Quinquiès Rue Pierre Brossolette  93270 Sevran
CATEGORIES:Cours de danse orientale
END:VEVENT
BEGIN:VEVENT
DTSTART;TZID=UTC:20250502T090000
DTEND;TZID=UTC:20250502T100000
DTSTAMP:20260421T081245
CREATED:20250516T155750Z
LAST-MODIFIED:20250516T155750Z
UID:3522-1746176400-1746180000@lesyeux-dorient.com
SUMMARY:Cours de Pilates à Sevran (93)
DESCRIPTION:
URL:https://lesyeux-dorient.com/event/cours-de-pilates-a-sevran-93-3/
LOCATION:Gymnase Victor Hugo  34 Boulevard de la République  93270 Sevran
CATEGORIES:Cours de pilates
END:VEVENT
BEGIN:VEVENT
DTSTART;TZID=UTC:20250502T180000
DTEND;TZID=UTC:20250502T190000
DTSTAMP:20260421T081245
CREATED:20250516T155927Z
LAST-MODIFIED:20250516T155927Z
UID:3524-1746208800-1746212400@lesyeux-dorient.com
SUMMARY:Cours de Pilates à Sevran (93)
DESCRIPTION:
URL:https://lesyeux-dorient.com/event/cours-de-pilates-a-sevran-93-4/
LOCATION:Gymnase Victor Hugo  34 Boulevard de la République  93270 Sevran
CATEGORIES:Cours de pilates
END:VEVENT
BEGIN:VEVENT
DTSTART;TZID=UTC:20250503T100000
DTEND;TZID=UTC:20250503T110000
DTSTAMP:20260421T081245
CREATED:20250505T164828Z
LAST-MODIFIED:20250516T154531Z
UID:2459-1746266400-1746270000@lesyeux-dorient.com
SUMMARY:Cours de danse orientale à Livry-Gargan (93)
DESCRIPTION:
URL:https://lesyeux-dorient.com/event/cours-de-danse-orientale-a-livry-gargan-93-2-2/
LOCATION:Gymnase Danton  12 Allée Danton  93190 Livry-Gargan
CATEGORIES:Cours de danse orientale
END:VEVENT
BEGIN:VEVENT
DTSTART;TZID=UTC:20250503T110000
DTEND;TZID=UTC:20250503T120000
DTSTAMP:20260421T081245
CREATED:20250505T162957Z
LAST-MODIFIED:20250516T154732Z
UID:2449-1746270000-1746273600@lesyeux-dorient.com
SUMMARY:Cours de danse orientale à Livry-Gargan (93)
DESCRIPTION:
URL:https://lesyeux-dorient.com/event/cours-de-danse-orientale-a-livry-gargan-93/
LOCATION:Gymnase Danton  12 Allée Danton  93190 Livry-Gargan
CATEGORIES:Cours de danse orientale
END:VEVENT
BEGIN:VEVENT
DTSTART;TZID=UTC:20250503T140000
DTEND;TZID=UTC:20250503T150000
DTSTAMP:20260421T081245
CREATED:20250505T162533Z
LAST-MODIFIED:20250516T154812Z
UID:2445-1746280800-1746284400@lesyeux-dorient.com
SUMMARY:Cours de danse orientale à Sevran (93)
DESCRIPTION:
URL:https://lesyeux-dorient.com/event/cours-de-danse-orientale-a-sevran-93/
LOCATION:Gymnase Victor Hugo  34 Boulevard de la République  93270 Sevran
CATEGORIES:Cours de danse orientale
END:VEVENT
END:VCALENDAR